<?xml version="1.0" encoding="UTF-8"?>
<metadata xml:lang="en"><Esri><CreaDate>20120216</CreaDate><CreaTime>17071700</CreaTime><ArcGISFormat>1.0</ArcGISFormat><SyncOnce>FALSE</SyncOnce><DataProperties><itemProps><itemName Sync="TRUE">Relief Inlet.tif</itemName><itemLocation><linkage Sync="TRUE">file://D:\USGS\03\Relief Inlet.tif</linkage><protocol Sync="TRUE">Local Area Network</protocol></itemLocation><imsContentType Sync="TRUE">002</imsContentType><nativeExtBox><westBL Sync="TRUE">-65025.434400</westBL><eastBL Sync="TRUE">65017.501788</eastBL><southBL Sync="TRUE">-10411659.091871</southBL><northBL Sync="TRUE">-10298838.977513</northBL><exTypeCode Sync="TRUE">1</exTypeCode></nativeExtBox></itemProps><coordRef><type Sync="TRUE">Projected</type><geogcsn Sync="TRUE">GCS_WGS_1984</geogcsn><csUnits Sync="TRUE">Linear Unit: Meter (1.000000)</csUnits><projcsn Sync="TRUE">WGS_1984_Lambert_Conformal_Conic</projcsn><peXml Sync="TRUE">&lt;ProjectedCoordinateSystem xsi:type='typens:ProjectedCoordinateSystem' xmlns:xsi='http://www.w3.org/2001/XMLSchema-instance' xmlns:xs='http://www.w3.org/2001/XMLSchema' xmlns:typens='http://www.esri.com/schemas/ArcGIS/10.1'&gt;&lt;WKT&gt;PROJCS[&amp;quot;WGS_1984_Lambert_Conformal_Conic&amp;quot;,GEOGCS[&amp;quot;GCS_WGS_1984&amp;quot;,DATUM[&amp;quot;D_WGS_1984&amp;quot;,SPHEROID[&amp;quot;WGS_1984&amp;quot;,6378137.0,298.257223563]],PRIMEM[&amp;quot;Greenwich&amp;quot;,0.0],UNIT[&amp;quot;Degree&amp;quot;,0.0174532925199433]],PROJECTION[&amp;quot;Lambert_Conformal_Conic&amp;quot;],PARAMETER[&amp;quot;false_easting&amp;quot;,0.0],PARAMETER[&amp;quot;false_northing&amp;quot;,0.0],PARAMETER[&amp;quot;central_meridian&amp;quot;,164.25],PARAMETER[&amp;quot;standard_parallel_1&amp;quot;,-72.66666666666667],PARAMETER[&amp;quot;standard_parallel_2&amp;quot;,-75.33333333333333],PARAMETER[&amp;quot;latitude_of_origin&amp;quot;,0.0],UNIT[&amp;quot;Meter&amp;quot;,1.0]]&lt;/WKT&gt;&lt;XOrigin&gt;-34093600&lt;/XOrigin&gt;&lt;YOrigin&gt;-45863800&lt;/YOrigin&gt;&lt;XYScale&gt;132095162.35805239&lt;/XYScale&gt;&lt;ZOrigin&gt;-100000&lt;/ZOrigin&gt;&lt;ZScale&gt;10000&lt;/ZScale&gt;&lt;MOrigin&gt;-100000&lt;/MOrigin&gt;&lt;MScale&gt;10000&lt;/MScale&gt;&lt;XYTolerance&gt;0.001&lt;/XYTolerance&gt;&lt;ZTolerance&gt;0.001&lt;/ZTolerance&gt;&lt;MTolerance&gt;0.001&lt;/MTolerance&gt;&lt;HighPrecision&gt;true&lt;/HighPrecision&gt;&lt;/ProjectedCoordinateSystem&gt;</peXml></coordRef><RasterProperties><General><PixelDepth Sync="TRUE">16</PixelDepth><HasColormap Sync="TRUE">FALSE</HasColormap><CompressionType Sync="TRUE">LZW</CompressionType><NumBands Sync="TRUE">3</NumBands><Format Sync="TRUE">TIFF</Format><HasPyramids Sync="TRUE">TRUE</HasPyramids><SourceType Sync="TRUE">continuous</SourceType><PixelType Sync="TRUE">unsigned integer</PixelType><NoDataValue Sync="TRUE">256</NoDataValue></General></RasterProperties><lineage><Process ToolSource="C:\Program Files (x86)\ArcGIS\Desktop10.0\ArcToolbox\Toolboxes\Data Management Tools.tbx\Clip" Date="20120216" Time="170721">Clip "Y:\sde\maps\public\antarctica\usgs\03\geo\Relief Inlet.tif" "-65006.2003332857 -10411638.5785838 65006.200333285 -10298857.8478984" "Y:\sde\maps\public\antarctica\usgs\03\geo\Relief Inlet_t.tif" "Y:\sde\maps\public\antarctica\usgs\03\extent\Relief Inlet.shp" # ClippingGeometry</Process><Process ToolSource="C:\Program Files (x86)\ArcGIS\Desktop10.0\ArcToolbox\Toolboxes\Data Management Tools.tbx\Clip" Date="20120217" Time="163157">Clip "Y:\sde\maps\public\antarctica\usgs\03\geo\Relief Inlet.tif" "-65006.2003332857 -10411638.5785838 65006.200333285 -10298857.8478984" "Y:\sde\maps\public\antarctica\usgs\03\geo\Relief Inlet_t.tif" "Y:\sde\maps\public\antarctica\usgs\03\extent\Relief Inlet.shp" # ClippingGeometry</Process><Process ToolSource="c:\program files (x86)\arcgis\desktop10.1\ArcToolbox\Toolboxes\Data Management Tools.tbx\Clip" Date="20130311" Time="163211">Clip "Y:/sde/maps/public/antarctica/usgs/03\geo\Relief Inlet.tif" "-65006.2003332857 -10411638.5785838 65006.200333285 -10298857.8478984" "D:\USGS\03\Relief Inlet.tif" "Y:/sde/maps/public/antarctica/usgs/03\extent\Relief Inlet.shp" 256 ClippingGeometry</Process></lineage></DataProperties><SyncDate>20130311</SyncDate><SyncTime>16320800</SyncTime><ModDate>20130311</ModDate><ModTime>16320800</ModTime></Esri><dataIdInfo><envirDesc Sync="TRUE">Microsoft Windows 7 Version 6.1 (Build 7601) Service Pack 1; Esri ArcGIS 10.1.1.3143</envirDesc><dataLang><languageCode value="eng" Sync="TRUE"></languageCode><countryCode value="USA" Sync="TRUE"></countryCode></dataLang><idCitation><resTitle Sync="TRUE">Relief Inlet.tif</resTitle><presForm><PresFormCd value="005" Sync="TRUE"></PresFormCd></presForm></idCitation><spatRpType><SpatRepTypCd value="002" Sync="TRUE"></SpatRepTypCd></spatRpType><dataExt><geoEle><GeoBndBox esriExtentType="search"><exTypeCode Sync="TRUE">1</exTypeCode><westBL Sync="TRUE">161.843481</westBL><eastBL Sync="TRUE">166.656226</eastBL><northBL Sync="TRUE">-74.988836</northBL><southBL Sync="TRUE">-76.010461</southBL></GeoBndBox></geoEle></dataExt></dataIdInfo><mdLang><languageCode value="eng" Sync="TRUE"></languageCode><countryCode value="USA" Sync="TRUE"></countryCode></mdLang><mdChar><CharSetCd value="004" Sync="TRUE"></CharSetCd></mdChar><distInfo><distFormat><formatName Sync="TRUE">Raster Dataset</formatName></distFormat></distInfo><mdHrLv><ScopeCd value="005" Sync="TRUE"></ScopeCd></mdHrLv><mdHrLvName Sync="TRUE">dataset</mdHrLvName><refSysInfo><RefSystem><refSysID><identCode code="0" Sync="TRUE" value="0"></identCode></refSysID></RefSystem></refSysInfo><spatRepInfo><Georect><cellGeo><CellGeoCd Sync="TRUE" value="002"></CellGeoCd></cellGeo><numDims Sync="TRUE">2</numDims><tranParaAv Sync="TRUE">1</tranParaAv><chkPtAv Sync="TRUE">0</chkPtAv><cornerPts><pos Sync="TRUE">-65025.434400 -10411659.091871</pos></cornerPts><cornerPts><pos Sync="TRUE">-65025.434400 -10298838.977513</pos></cornerPts><cornerPts><pos Sync="TRUE">65017.501788 -10298838.977513</pos></cornerPts><cornerPts><pos Sync="TRUE">65017.501788 -10411659.091871</pos></cornerPts><centerPt><pos Sync="TRUE">-3.966306 -10355249.034692</pos></centerPt><axisDimension type="002"><dimSize Sync="TRUE">6116</dimSize><dimResol><value Sync="TRUE" uom="Meter">21.262743</value></dimResol></axisDimension><axisDimension type="001"><dimSize Sync="TRUE">5306</dimSize><dimResol><value Sync="TRUE" uom="Meter">21.262743</value></dimResol></axisDimension><ptInPixel><PixOrientCd Sync="TRUE" value="001"></PixOrientCd></ptInPixel></Georect></spatRepInfo><contInfo><ImgDesc><contentTyp><ContentTypCd Sync="TRUE" value="001"></ContentTypCd></contentTyp><covDim><Band><dimDescrp Sync="TRUE">Band_1</dimDescrp><bitsPerVal Sync="TRUE">16</bitsPerVal><valUnit><UOM type="length"><unitSymbol Sync="TRUE">Meter</unitSymbol></UOM></valUnit></Band><Band><dimDescrp Sync="TRUE">Band_2</dimDescrp><bitsPerVal Sync="TRUE">16</bitsPerVal><valUnit><UOM type="length"><unitSymbol Sync="TRUE">Meter</unitSymbol></UOM></valUnit></Band><Band><dimDescrp Sync="TRUE">Band_3</dimDescrp><bitsPerVal Sync="TRUE">16</bitsPerVal><valUnit><UOM type="length"><unitSymbol Sync="TRUE">Meter</unitSymbol></UOM></valUnit></Band></covDim></ImgDesc></contInfo><mdDateSt Sync="TRUE">20130311</mdDateSt></metadata>
